BEGIN:VCALENDAR
VERSION:2.0
PRODID:-//Humberside Scouts - ECPv6.15.20//NONSGML v1.0//EN
CALSCALE:GREGORIAN
METHOD:PUBLISH
X-WR-CALNAME:Humberside Scouts
X-ORIGINAL-URL:https://www.humbersidescouts.org.uk
X-WR-CALDESC:Events for Humberside Scouts
REFRESH-INTERVAL;VALUE=DURATION:PT1H
X-Robots-Tag:noindex
X-PUBLISHED-TTL:PT1H
BEGIN:VTIMEZONE
TZID:Europe/London
BEGIN:DAYLIGHT
TZOFFSETFROM:+0000
TZOFFSETTO:+0100
TZNAME:BST
DTSTART:20250330T010000
END:DAYLIGHT
BEGIN:STANDARD
TZOFFSETFROM:+0100
TZOFFSETTO:+0000
TZNAME:GMT
DTSTART:20251026T010000
END:STANDARD
BEGIN:DAYLIGHT
TZOFFSETFROM:+0000
TZOFFSETTO:+0100
TZNAME:BST
DTSTART:20260329T010000
END:DAYLIGHT
BEGIN:STANDARD
TZOFFSETFROM:+0100
TZOFFSETTO:+0000
TZNAME:GMT
DTSTART:20261025T010000
END:STANDARD
BEGIN:DAYLIGHT
TZOFFSETFROM:+0000
TZOFFSETTO:+0100
TZNAME:BST
DTSTART:20270328T010000
END:DAYLIGHT
BEGIN:STANDARD
TZOFFSETFROM:+0100
TZOFFSETTO:+0000
TZNAME:GMT
DTSTART:20271031T010000
END:STANDARD
END:VTIMEZONE
BEGIN:VEVENT
DTSTART;TZID=Europe/London:20260422T190000
DTEND;TZID=Europe/London:20260422T203000
DTSTAMP:20260422T095930
CREATED:20251209T134220Z
LAST-MODIFIED:20251209T134220Z
UID:11707-1776884400-1776889800@www.humbersidescouts.org.uk
SUMMARY:Young Leader Training - Module D
DESCRIPTION:A chance for Young Leaders to complete Module D on an evening. \nThis is ideal for anyone who is unable to attend our February Training Weekend. \nBookings\nWe use an online system called Online Scout Manager to easily coordinate all our admin for Young Leader Training. It is a safe\, secure and GDPR compliant system that saves Leaders a lot of time and it also saves a lot of paper. This system also has a portal for Parents/Guardians to access and provide us with all the details we need\, without having to complete any paper forms. \nIf you have booked onto a Training Weekend through OSM before\, then you will receive an email inviting you\, direct from OSM. \nIf you already use OSM for your Young Leader\, then please ask their Section Leader to share them with us and you won’t have to set up another login. \nCost\nYoung Leader Training is free of charge to all Young Leaders in Humberside County. \nHowever\, you still need to book on via OSM and the County reserve the right to make a charge of £10 per person for any places booked where people do not turn up or cancel prior to the training date\, with short notice. \nPlaces cancelled after 15th April are subject to the £10 charge. \nWhat to bring\nPlease wear something comfortable for taking part in the training and your necker. \nIf you already have one\, please bring your YL Logbook with you. If this will be your first Training Module\, then one will be given to you here.
URL:https://www.humbersidescouts.org.uk/event/young-leader-training-module-d/
LOCATION:Raywell Park Scout Activity Centre\, Raywell Park Scout Activity Centre\, Riplingham Rd\, Raywell\, Cottingham HU16 5YL\, HU16 5YL
CATEGORIES:Young Leader Training
ATTACH;FMTTYPE=image/jpeg:https://www.humbersidescouts.org.uk/wp-content/uploads/sites/8/2025/11/young-leader-training-weekend-modules-b-d-f-and-a-1.jpg
ORGANIZER;CN="Young Leader Team":MAILTO:yladmin@humbersidescouts.org.uk
END:VEVENT
END:VCALENDAR